BEGIN:VCALENDAR
VERSION:2.0
PRODID:-//CEC - ECPv6.15.20//NONSGML v1.0//EN
CALSCALE:GREGORIAN
METHOD:PUBLISH
X-WR-CALNAME:CEC
X-ORIGINAL-URL:https://ceckindergarten.com
X-WR-CALDESC:Events for CEC
REFRESH-INTERVAL;VALUE=DURATION:PT1H
X-Robots-Tag:noindex
X-PUBLISHED-TTL:PT1H
BEGIN:VTIMEZONE
TZID:UTC
BEGIN:STANDARD
TZOFFSETFROM:+0000
TZOFFSETTO:+0000
TZNAME:UTC
DTSTART:20330101T000000
END:STANDARD
END:VTIMEZONE
BEGIN:VEVENT
DTSTART;TZID=UTC:20340101T080000
DTEND;TZID=UTC:20340101T170000
DTSTAMP:20260420T050743
CREATED:20240829T060505Z
LAST-MODIFIED:20260125T094332Z
UID:1080-2019715200-2019747600@ceckindergarten.com
SUMMARY:New Year's Eve\, Parents' Day
DESCRIPTION:New Year’s greetings are an opportunity to bring families and team together around a gourmet tradition: the galette des rois\, a symbol of sharing and good humor to start the year off right.
URL:https://ceckindergarten.com/event/new-years-eve-parents-day/
LOCATION:Mellow Function Rooms\, Midtown Project\, Southern Investors Area\, New Cairo\, Building B61\, Cairo\, Egypt\, Cairo\, Egypt
CATEGORIES:Classroom
ATTACH;FMTTYPE=image/jpeg:https://ceckindergarten.com/wp-content/uploads/2025/01/post-2-768x480-1.jpg
ORGANIZER;CN="kidsfunegypt":MAILTO:info@kidsfunegypt.com
END:VEVENT
END:VCALENDAR